BEGIN:VCALENDAR
VERSION:2.0
PRODID:-//League of Women Voters of Vermont - ECPv6.15.20//NONSGML v1.0//EN
CALSCALE:GREGORIAN
METHOD:PUBLISH
X-WR-CALNAME:League of Women Voters of Vermont
X-ORIGINAL-URL:https://lwvofvt.org
X-WR-CALDESC:Events for League of Women Voters of Vermont
REFRESH-INTERVAL;VALUE=DURATION:PT1H
X-Robots-Tag:noindex
X-PUBLISHED-TTL:PT1H
BEGIN:VTIMEZONE
TZID:America/New_York
BEGIN:DAYLIGHT
TZOFFSETFROM:-0500
TZOFFSETTO:-0400
TZNAME:EDT
DTSTART:20220313T070000
END:DAYLIGHT
BEGIN:STANDARD
TZOFFSETFROM:-0400
TZOFFSETTO:-0500
TZNAME:EST
DTSTART:20221106T060000
END:STANDARD
BEGIN:DAYLIGHT
TZOFFSETFROM:-0500
TZOFFSETTO:-0400
TZNAME:EDT
DTSTART:20230312T070000
END:DAYLIGHT
BEGIN:STANDARD
TZOFFSETFROM:-0400
TZOFFSETTO:-0500
TZNAME:EST
DTSTART:20231105T060000
END:STANDARD
BEGIN:DAYLIGHT
TZOFFSETFROM:-0500
TZOFFSETTO:-0400
TZNAME:EDT
DTSTART:20240310T070000
END:DAYLIGHT
BEGIN:STANDARD
TZOFFSETFROM:-0400
TZOFFSETTO:-0500
TZNAME:EST
DTSTART:20241103T060000
END:STANDARD
END:VTIMEZONE
BEGIN:VEVENT
DTSTART;TZID=America/New_York:20230215T060000
DTEND;TZID=America/New_York:20230215T180000
DTSTAMP:20260425T101944
CREATED:20230131T235637Z
LAST-MODIFIED:20230201T002116Z
UID:802-1676440800-1676484000@lwvofvt.org
SUMMARY:NEW CITIZEN VOTER REGISTRATION
DESCRIPTION:Thursday\, February 15  | 11 a.m. \nNEW CITIZEN VOTER REGISTRATION \nBurlington Courthouse\, Naturalization Ceremony
URL:https://lwvofvt.org/event/new-citizen-voter-registration/
ATTACH;FMTTYPE=image/jpeg:https://lwvofvt.org/wp-content/uploads/2023/01/Calendar-New-Citizens-Voter-Registration-1.jpg
END:VEVENT
END:VCALENDAR