BEGIN:VCALENDAR
VERSION:2.0
PRODID:-//League of Women Voters of Vermont - ECPv6.15.20//NONSGML v1.0//EN
CALSCALE:GREGORIAN
METHOD:PUBLISH
X-WR-CALNAME:League of Women Voters of Vermont
X-ORIGINAL-URL:https://lwvofvt.org
X-WR-CALDESC:Events for League of Women Voters of Vermont
REFRESH-INTERVAL;VALUE=DURATION:PT1H
X-Robots-Tag:noindex
X-PUBLISHED-TTL:PT1H
BEGIN:VTIMEZONE
TZID:America/New_York
BEGIN:DAYLIGHT
TZOFFSETFROM:-0500
TZOFFSETTO:-0400
TZNAME:EDT
DTSTART:20220313T070000
END:DAYLIGHT
BEGIN:STANDARD
TZOFFSETFROM:-0400
TZOFFSETTO:-0500
TZNAME:EST
DTSTART:20221106T060000
END:STANDARD
BEGIN:DAYLIGHT
TZOFFSETFROM:-0500
TZOFFSETTO:-0400
TZNAME:EDT
DTSTART:20230312T070000
END:DAYLIGHT
BEGIN:STANDARD
TZOFFSETFROM:-0400
TZOFFSETTO:-0500
TZNAME:EST
DTSTART:20231105T060000
END:STANDARD
BEGIN:DAYLIGHT
TZOFFSETFROM:-0500
TZOFFSETTO:-0400
TZNAME:EDT
DTSTART:20240310T070000
END:DAYLIGHT
BEGIN:STANDARD
TZOFFSETFROM:-0400
TZOFFSETTO:-0500
TZNAME:EST
DTSTART:20241103T060000
END:STANDARD
END:VTIMEZONE
BEGIN:VEVENT
DTSTART;TZID=America/New_York:20230206T123000
DTEND;TZID=America/New_York:20230206T143000
DTSTAMP:20260425T101939
CREATED:20230131T235301Z
LAST-MODIFIED:20230201T002705Z
UID:796-1675686600-1675693800@lwvofvt.org
SUMMARY:THE PRIVATIZATION OF MEDICARE
DESCRIPTION:Monday\, February 6  | 5:30-7:30 p.m. \nTHE PRIVATIZATION OF MEDICARE \nKellogg-Hubbard Library\, 135 Main Street\, Montpelier | Free \nDr. Marvin Malek\, past president of Vermont Physicians for a National Health Program\, in his presentation on the privatization of Medicare\, will review Medicare Advantage\, Direct Contracting Entities (DCE) and the new Accountable Care-Realizing Equity\, Access\, and Community Health (ACO/REACH) program as he leads a discussion about the impact of privatization initiatives on the care that Medicare beneficiaries receive\, the costs Medicare beneficiaries will be facing\, and financial stability of the Medicare program. \nAfter its implementation in 1965\, for the first 20 years\, the Medicare program reimbursed hospitals and doctors directly for care provided to enrollees. In 1985\, some Medicare recipients were given the option of choosing to have their benefit managed by a private company\, currently known as Medicare Advantage. Last year\, officials in the Medicare program announced that by 2030\, they would be involuntarily assigning the remaining Medicare enrollees into another managed care program—the ACO/REACH program. \nCo-sponsored by Vermont Physicians for a National Health Program\, Vermont Health Care for All\, Vermont State Employees Association\, and Vermont Workers’ Center. The program will be recorded by Onion River Community Access.
URL:https://lwvofvt.org/event/the-privatization-of-medicare/
ATTACH;FMTTYPE=image/jpeg:https://lwvofvt.org/wp-content/uploads/2023/01/Calendar-Privatization-of-Medicare.jpg
END:VEVENT
END:VCALENDAR