BEGIN:VCALENDAR
VERSION:2.0
PRODID:-//League of Women Voters of Vermont - ECPv6.15.20//NONSGML v1.0//EN
CALSCALE:GREGORIAN
METHOD:PUBLISH
X-WR-CALNAME:League of Women Voters of Vermont
X-ORIGINAL-URL:https://lwvofvt.org
X-WR-CALDESC:Events for League of Women Voters of Vermont
REFRESH-INTERVAL;VALUE=DURATION:PT1H
X-Robots-Tag:noindex
X-PUBLISHED-TTL:PT1H
BEGIN:VTIMEZONE
TZID:America/New_York
BEGIN:DAYLIGHT
TZOFFSETFROM:-0500
TZOFFSETTO:-0400
TZNAME:EDT
DTSTART:20210314T070000
END:DAYLIGHT
BEGIN:STANDARD
TZOFFSETFROM:-0400
TZOFFSETTO:-0500
TZNAME:EST
DTSTART:20211107T060000
END:STANDARD
BEGIN:DAYLIGHT
TZOFFSETFROM:-0500
TZOFFSETTO:-0400
TZNAME:EDT
DTSTART:20220313T070000
END:DAYLIGHT
BEGIN:STANDARD
TZOFFSETFROM:-0400
TZOFFSETTO:-0500
TZNAME:EST
DTSTART:20221106T060000
END:STANDARD
BEGIN:DAYLIGHT
TZOFFSETFROM:-0500
TZOFFSETTO:-0400
TZNAME:EDT
DTSTART:20230312T070000
END:DAYLIGHT
BEGIN:STANDARD
TZOFFSETFROM:-0400
TZOFFSETTO:-0500
TZNAME:EST
DTSTART:20231105T060000
END:STANDARD
END:VTIMEZONE
BEGIN:VEVENT
DTSTART;TZID=America/New_York:20220921T150000
DTEND;TZID=America/New_York:20220921T163000
DTSTAMP:20260425T175732
CREATED:20220909T180455Z
LAST-MODIFIED:20220913T191404Z
UID:670-1663772400-1663777800@lwvofvt.org
SUMMARY:Lieutenant Governor Candidate Forum
DESCRIPTION:When: Wednesday September 21\, 2022 \nEvent: 7:00 PM to 8:30 PM \nLocation: St. Johnsbury Athenaeum\, 1171 Main Street \nModerator: Tom McKone\, former Executive Director\, Kellogg-Hubbard Library \n  \nThe confirmed candidates are: \nDavid Zuckerman (D) \nJoe Benning (R) \n  \nCo-Sponsored by: \nSt. Johnsbury Athenaeum \nVermont Commission on Women \nWomen’s International League for Peace and Freedom\, Burlington Chapter \n\nNo registration required for this event. \nNo COVID restrictions at this time\, but may be imposed at a later date. \nBroadcast by KATV on its YouTube channel. \n\n\nFor questions concerning this event\, please contact the League of Women Voters of VT at league@lwvofvt.org \n\n  \nThe League of Women Voters\, a nonpartisan political organization\, encourages informed and active participation in government\, works to increase understanding of major public policy issues\, and influences public policy through education and advocacy. Membership in the League is open to men and women of all ages. With more than 100 years of experience and 800 local and state affiliates\, the League is one of America’s most trusted grassroots organizations. 
URL:https://lwvofvt.org/event/lieutenant-governor-candidate-forum/
ORGANIZER;CN="League of Women Voters":MAILTO:league@lwvofvt.org
END:VEVENT
END:VCALENDAR