BEGIN:VCALENDAR
VERSION:2.0
PRODID:-//League of Women Voters of Vermont - ECPv6.15.20//NONSGML v1.0//EN
CALSCALE:GREGORIAN
METHOD:PUBLISH
X-WR-CALNAME:League of Women Voters of Vermont
X-ORIGINAL-URL:https://lwvofvt.org
X-WR-CALDESC:Events for League of Women Voters of Vermont
REFRESH-INTERVAL;VALUE=DURATION:PT1H
X-Robots-Tag:noindex
X-PUBLISHED-TTL:PT1H
BEGIN:VTIMEZONE
TZID:America/New_York
BEGIN:DAYLIGHT
TZOFFSETFROM:-0500
TZOFFSETTO:-0400
TZNAME:EDT
DTSTART:20210314T070000
END:DAYLIGHT
BEGIN:STANDARD
TZOFFSETFROM:-0400
TZOFFSETTO:-0500
TZNAME:EST
DTSTART:20211107T060000
END:STANDARD
BEGIN:DAYLIGHT
TZOFFSETFROM:-0500
TZOFFSETTO:-0400
TZNAME:EDT
DTSTART:20220313T070000
END:DAYLIGHT
BEGIN:STANDARD
TZOFFSETFROM:-0400
TZOFFSETTO:-0500
TZNAME:EST
DTSTART:20221106T060000
END:STANDARD
BEGIN:DAYLIGHT
TZOFFSETFROM:-0500
TZOFFSETTO:-0400
TZNAME:EDT
DTSTART:20230312T070000
END:DAYLIGHT
BEGIN:STANDARD
TZOFFSETFROM:-0400
TZOFFSETTO:-0500
TZNAME:EST
DTSTART:20231105T060000
END:STANDARD
END:VTIMEZONE
BEGIN:VEVENT
DTSTART;TZID=America/New_York:20220630T150000
DTEND;TZID=America/New_York:20220630T170000
DTSTAMP:20260425T204141
CREATED:20220613T200620Z
LAST-MODIFIED:20220620T193150Z
UID:534-1656601200-1656608400@lwvofvt.org
SUMMARY:CANDIDATE FORUM FOR HOUSE OF REPRESENTATIVES – FOCUS ON WOMEN & FAMILIES
DESCRIPTION:This is a virtual event! \nThis candidate forum will focus on issues that affect women and families.  With many major party candidates on the Primary Election Ballots\, voters need to hear from the candidates on their approach to issues that affect women and families.  The sponsoring organizations will provide questions for the candidates informed by their work advocating for women and families. \nWhen: Thursday June 30\, 2022 \nEvent: 7:00 PM to 9:00 PM \nLocation: Virtual \nModerator: Cary Brown\, Executive Director\, Vermont Commission on Women \n  \nThe confirmed candidates are: \nBecca Balint  Democrat \nSianay Chase Clifford  Democrat \nMolly Gray  Democrat \nLiam Madden  Republican \nLouis Meyers\, MD  Democrat \nEricka Bundy Redic  Republican \nAnya Tynio  Republican \n  \nPresented by: \nLeague of Women Voters of Vermont \nCo-Sponsored by: \nVermont Commission on Women \nVermont Works for Women \nWomen Business Owners Network Vermont \nWomen’s International League for Peace and Freedom\, Burlington Chapter \nVermont Network Against Domestic and Sexual Violence \nVoices for Vermont’s Children \nVermont Women’s Fund \n\nTo register for this event\, please CLICK HERE \n\nFor questions concerning this event\, please contact the League of Women Voters of VT at league@lwvofvt.org \n\n  \nPlease check back for updates and more info. \nThe League of Women Voters\, a nonpartisan political organization\, encourages informed and active participation in government\, works to increase understanding of major public policy issues\, and influences public policy through education and advocacy. Membership in the League is open to men and women of all ages. With more than 100 years of experience and 800 local and state affiliates\, the League is one of America’s most trusted grassroots organizations. 
URL:https://lwvofvt.org/event/candidate-forum-for-house-of-representatives-focus-on-women-families/
ORGANIZER;CN="League of Women Voters":MAILTO:league@lwvofvt.org
END:VEVENT
END:VCALENDAR