BEGIN:VCALENDAR
VERSION:2.0
PRODID:-//League of Women Voters of Vermont - ECPv6.15.20//NONSGML v1.0//EN
CALSCALE:GREGORIAN
METHOD:PUBLISH
X-ORIGINAL-URL:https://lwvofvt.org
X-WR-CALDESC:Events for League of Women Voters of Vermont
REFRESH-INTERVAL;VALUE=DURATION:PT1H
X-Robots-Tag:noindex
X-PUBLISHED-TTL:PT1H
BEGIN:VTIMEZONE
TZID:America/New_York
BEGIN:DAYLIGHT
TZOFFSETFROM:-0500
TZOFFSETTO:-0400
TZNAME:EDT
DTSTART:20210314T070000
END:DAYLIGHT
BEGIN:STANDARD
TZOFFSETFROM:-0400
TZOFFSETTO:-0500
TZNAME:EST
DTSTART:20211107T060000
END:STANDARD
BEGIN:DAYLIGHT
TZOFFSETFROM:-0500
TZOFFSETTO:-0400
TZNAME:EDT
DTSTART:20220313T070000
END:DAYLIGHT
BEGIN:STANDARD
TZOFFSETFROM:-0400
TZOFFSETTO:-0500
TZNAME:EST
DTSTART:20221106T060000
END:STANDARD
BEGIN:DAYLIGHT
TZOFFSETFROM:-0500
TZOFFSETTO:-0400
TZNAME:EDT
DTSTART:20230312T070000
END:DAYLIGHT
BEGIN:STANDARD
TZOFFSETFROM:-0400
TZOFFSETTO:-0500
TZNAME:EST
DTSTART:20231105T060000
END:STANDARD
END:VTIMEZONE
BEGIN:VEVENT
DTSTART;TZID=America/New_York:20220913T150000
DTEND;TZID=America/New_York:20220913T163000
DTSTAMP:20260425T163413
CREATED:20220909T185617Z
LAST-MODIFIED:20220909T185617Z
UID:682-1663081200-1663086600@lwvofvt.org
SUMMARY:Phoenix Books Discussion
DESCRIPTION:Phoenix Books Discussion \n  \nWhen: Tuesday September 13\, 2022 \nEvent: 7:00 PM to 8:30 PM \nLocation: 191 Bank Street\, Burlington \n\nOur Veterans: Winners\, Losers\, Friends and Enemies on the New Terrain of Veterans Affairs. An evening with Steve Early\, Suzanne Jordon\, and Jasper Chase. \nCo-author Jasper Craven\, a graduate of St. Johnsbury Academy and Boston University\, is a freelance journalist who reports on military and veterans affairs for VT Digger\, New York Times\, American Prospect\, The Atlantic\, New Republic\, The Baffler\, and others. \n\nRegister at:\nhttps://www.phoenixbooks.biz/event/our-veterans-winners-losers-friends-and-enemies-new-terrain-veterans-affairs \n\nThis evening is co-sponsored by the League of Women Voters of Vermont (LWVVT). The League\, being concerned about the privatization of Medicare\, is very troubled by ongoing efforts to privatize military healthcare. Other sponsors include Vermont AFL-CIO\, Communications Workers of America Local 1400\, Will Miller Green Mountain Veterans for Peace\, Chapter 57\, and Vermont Physicians for a National Health Program. \n\nThe League of Women Voters\, a nonpartisan political organization\, encourages informed and active participation in government\, works to increase understanding of major public policy issues\, and influences public policy through education and advocacy. Membership in the League is open to men and women of all ages. With more than 100 years of experience and 800 local and state affiliates\, the League is one of America’s most trusted grassroots organizations. 
URL:https://lwvofvt.org/event/phoenix-books-discussion/
END:VEVENT
BEGIN:VEVENT
DTSTART;TZID=America/New_York:20220918T090000
DTEND;TZID=America/New_York:20220918T130000
DTSTAMP:20260425T163413
CREATED:20220909T184602Z
LAST-MODIFIED:20220909T184730Z
UID:678-1663491600-1663506000@lwvofvt.org
SUMMARY:Pride Vermont
DESCRIPTION:  \n  \n  \nSHOUT OUT FOR VOLUNTEERS! \n  \nWhen: Sunday September 18\, 2022 \nEvent: 1:00 PM to 5:00 PM \nLocation: Pride Festival Waterfront Park\, Burlington \n\nIt’s the Pride Festival on Sunday\, September 18\, and LWVVT is looking for members to help register voters. We will have a Registration Booth at Waterfront Park in Burlington from 1- 5 pm. We hope to have two shifts\, 1-3 pm and 3-5 pm. You can volunteer for one or both shifts. Bring yourself\, bring a friend. Training and materials will be provided. Please get in touch with Sue Racanelli\, lwvofvt@gmail.com. \nDid You Know that one in five LGBTQ voters were not registered?\nYou can help change this. Volunteer at the LWVVT registration booth at the Pride Festival. \n  \n\nThe League of Women Voters\, a nonpartisan political organization\, encourages informed and active participation in government\, works to increase understanding of major public policy issues\, and influences public policy through education and advocacy. Membership in the League is open to men and women of all ages. With more than 100 years of experience and 800 local and state affiliates\, the League is one of America’s most trusted grassroots organizations. 
URL:https://lwvofvt.org/event/pride-vermont/
END:VEVENT
BEGIN:VEVENT
DTSTART;TZID=America/New_York:20220921T150000
DTEND;TZID=America/New_York:20220921T163000
DTSTAMP:20260425T163413
CREATED:20220909T180455Z
LAST-MODIFIED:20220913T191404Z
UID:670-1663772400-1663777800@lwvofvt.org
SUMMARY:Lieutenant Governor Candidate Forum
DESCRIPTION:When: Wednesday September 21\, 2022 \nEvent: 7:00 PM to 8:30 PM \nLocation: St. Johnsbury Athenaeum\, 1171 Main Street \nModerator: Tom McKone\, former Executive Director\, Kellogg-Hubbard Library \n  \nThe confirmed candidates are: \nDavid Zuckerman (D) \nJoe Benning (R) \n  \nCo-Sponsored by: \nSt. Johnsbury Athenaeum \nVermont Commission on Women \nWomen’s International League for Peace and Freedom\, Burlington Chapter \n\nNo registration required for this event. \nNo COVID restrictions at this time\, but may be imposed at a later date. \nBroadcast by KATV on its YouTube channel. \n\n\nFor questions concerning this event\, please contact the League of Women Voters of VT at league@lwvofvt.org \n\n  \nThe League of Women Voters\, a nonpartisan political organization\, encourages informed and active participation in government\, works to increase understanding of major public policy issues\, and influences public policy through education and advocacy. Membership in the League is open to men and women of all ages. With more than 100 years of experience and 800 local and state affiliates\, the League is one of America’s most trusted grassroots organizations. 
URL:https://lwvofvt.org/event/lieutenant-governor-candidate-forum/
ORGANIZER;CN="League of Women Voters":MAILTO:league@lwvofvt.org
END:VEVENT
BEGIN:VEVENT
DTSTART;TZID=America/New_York:20220929T150000
DTEND;TZID=America/New_York:20220929T163000
DTSTAMP:20260425T163413
CREATED:20220909T181020Z
LAST-MODIFIED:20220913T191542Z
UID:675-1664463600-1664469000@lwvofvt.org
SUMMARY:Attorney General Candidate Forum
DESCRIPTION:When: Thursday September 29\, 2022 \nEvent: 7:00 PM to 8:30 PM \nLocation: St. Johnsbury Athenaeum\, 1171 Main Street \nModerator: Cary Brown\, Executive Director\, Vermont Commission on Women \n  \nThe confirmed candidates are: \nCharity Clark (D) \nMichael Tagliavia (R) \n  \nCo-Sponsored by: \nSt. Johnsbury Athenaeum \nACLU of Vermont \nVermont Commission on Women \nWomen’s International League for Peace and Freedom\, Burlington Chapter \n\nNo registration required for this event. \nNo COVID restrictions at this time\, but may be imposed at a later date. \nBroadcast by KATV on its YouTube channel. \n\n\nFor questions concerning this event\, please contact the League of Women Voters of VT at league@lwvofvt.org \n\n  \nThe League of Women Voters\, a nonpartisan political organization\, encourages informed and active participation in government\, works to increase understanding of major public policy issues\, and influences public policy through education and advocacy. Membership in the League is open to men and women of all ages. With more than 100 years of experience and 800 local and state affiliates\, the League is one of America’s most trusted grassroots organizations. 
URL:https://lwvofvt.org/event/attorney-general-candidate-forum/
ORGANIZER;CN="League of Women Voters":MAILTO:league@lwvofvt.org
END:VEVENT
END:VCALENDAR