BEGIN:VCALENDAR
VERSION:2.0
PRODID:-//League of Women Voters of Vermont - ECPv6.15.20//NONSGML v1.0//EN
CALSCALE:GREGORIAN
METHOD:PUBLISH
X-WR-CALNAME:League of Women Voters of Vermont
X-ORIGINAL-URL:https://lwvofvt.org
X-WR-CALDESC:Events for League of Women Voters of Vermont
REFRESH-INTERVAL;VALUE=DURATION:PT1H
X-Robots-Tag:noindex
X-PUBLISHED-TTL:PT1H
BEGIN:VTIMEZONE
TZID:America/New_York
BEGIN:DAYLIGHT
TZOFFSETFROM:-0500
TZOFFSETTO:-0400
TZNAME:EDT
DTSTART:20220313T070000
END:DAYLIGHT
BEGIN:STANDARD
TZOFFSETFROM:-0400
TZOFFSETTO:-0500
TZNAME:EST
DTSTART:20221106T060000
END:STANDARD
BEGIN:DAYLIGHT
TZOFFSETFROM:-0500
TZOFFSETTO:-0400
TZNAME:EDT
DTSTART:20230312T070000
END:DAYLIGHT
BEGIN:STANDARD
TZOFFSETFROM:-0400
TZOFFSETTO:-0500
TZNAME:EST
DTSTART:20231105T060000
END:STANDARD
BEGIN:DAYLIGHT
TZOFFSETFROM:-0500
TZOFFSETTO:-0400
TZNAME:EDT
DTSTART:20240310T070000
END:DAYLIGHT
BEGIN:STANDARD
TZOFFSETFROM:-0400
TZOFFSETTO:-0500
TZNAME:EST
DTSTART:20241103T060000
END:STANDARD
END:VTIMEZONE
BEGIN:VEVENT
DTSTART;TZID=America/New_York:20230308T140000
DTEND;TZID=America/New_York:20230308T153000
DTSTAMP:20260425T092706
CREATED:20230220T231152Z
LAST-MODIFIED:20230220T231152Z
UID:831-1678284000-1678289400@lwvofvt.org
SUMMARY:The Impact of Climate Change on Vermont. What Can We Do?
DESCRIPTION:Wednesday March 8 | 7:00 – 8:30 p.m. | Zoom | Registration Required \nThe last in the League’s five-part series on the personal\, economic\, and ecological effects of Climate Change in Vermont. What Can We Do? looks at how we\, as individuals\, can address issues presented by our rapidly changing conditions. \nThe panel features Paul Zabriskie \, Director of Weatherization and Climate Impact at Capstone Action Network\, Laura Cavin Bailey\, Climate Economy Program Manager at Vermont Council on Rural Development\, and Johanna Miller\, Energy and Climate Program Director at Vermont Natural Resources Council. Susan Clark\, Moderator\, is Middlesex Town Moderator. \nAttendance is free\, but all guests must register.
URL:https://lwvofvt.org/event/the-impact-of-climate-change-on-vermont-what-can-we-do/
ATTACH;FMTTYPE=image/jpeg:https://lwvofvt.org/wp-content/uploads/2023/01/Calender-Lecture-credit-Markus-Spiske-1-scaled.jpg
END:VEVENT
END:VCALENDAR